Workbook

Sheet  Ansökningsblankett Ideella 
B2: Ansökningsblankett
B3: Ansökan om uppdragsersättning till Ideella organisationer för 2027
B4: Diarienr MCF 2026-10976
B6: Instruktioner för Ansökningsblankett - Fyll i en blankett för varje ansökan om uppdragsersättning. - Ansökningsblanketten består av fyra delar (flikar) där ni ska beskriva och kommentera uppdraget ni söker medel för. - De celler ni ska fylla i är grå. Övriga delar är låsta för redigering. - Det går bra att skriva direkt i textfälten. Det går också bra att skriva i word och klistra in texten. Tänk på att antalet tecken inte får överskrida begränsningen (se respektive fråga). Ansökan skickas in som en Excel-fil till uppdragsersattning-ideella@mcf.se senast 15 september 2026. För att ansökan ska vara komplett ska alla fyra flikar vara ifyllda. Till ansökan ska också en separat blankett med underskrift från er organisations firmatecknare bifogas.
B18: 1. Sammanfattning
B20: 1.1 Organisationsuppgifter
B22: Organisationsnummer: | D22: 802461-0852
B23: Organisationsnamn: | D23: Föreningen för digitala fri- och rättigheter (DFRI)
B24: Postadress: | D24: Box 3644, SE-103 59 STOCKHOLM
B26: Organisationen är demokratiskt uppbyggd (Allmänna villkor) | H26: JA
D28: Läs mer om demokratisk uppbyggnad (länk till MUCF:s hemsida)
B30: Kontaktperson: | D30: Mats Karlsson
B31: Telefon: | D31: 076-341 81 83
B32: E-post: | D32: mats.o.karlsson@gmail.com
B34: Firmatecknare: | D34: Börje Ohlman
B35: Telefon: | D35: 070-519 3187
B36: E-post: | D36: Borje@dfri.se
B38: Övriga kontaktuppgifter (exempelvis till ekonom, funktionsbrevlåda o s v)
B39: styrelse@dfri.se
B42: 1.2 Information om sökande organisation
B43: Beskriv kort de delar av er organisationens verksamhet som berör 2:6-anslagets inriktningsområden.
B44: DFRI är en ideell och partipolitiskt obunden förening som verkar för främjandet av digitala fri- och rättigheter. Vi vill ha ett samhälle där människor kan leva utan att bli övervakade, spårade eller avlyssnade. Ett samhälle där yttrandefrihet, transparens och informationsfrihet alltid sätts i första rummet, och där människor äger rätten att själva bestämma över sin personliga information och sina digitala fotspår.
B47: Antal medlemmar i organisationen (31/12 föregående år): | H47: 150
B49: Länk till hemsida eller plattform | F49: https://www.dfri.se/
B51: Finns er verksamhet tillgänglig i alla landets län? | H51: NEJ
B53: Lista de orter/kommuner där ni är verksamma. Om antalet överstiger 10, får ni gärna bifoga en separat lista till er ansökan och ange det i rutan nedan.
B54: Stockholm
B57: 1.3 Uppdragets namn
B58: Vad kallar ni det uppdrag ni söker medel för?
B59: Digital säkerhet och självständighet
B61: 1.4 Uppdragets syfte, mål och verksamhet
B62: Högst 1 000 tecken.
B63: Beskriv kortfattat och översiktligt syfte, mål och vad som ska genomföras.
B66: I föreningens arbete med att svara för medborgares rättigheter och friheter inom den digitala världen så har det drivits verksamhet som ToR nätverk och utåtriktade informations arbeten riktade mot universitet och konferanser med myndigheter (tex. SamNet). Dfri har även sett en ökad efterfrågan på kunskap inom digital säkerhet och självständighet utifrån den ändrade världsbilden och vill starta några pilotprojekt där utbildning är ett av dessa.
B85: 2. Inriktning och förutsättningar för uppdragen
B87: 2.1 Vilket inriktningsområde enligt Inriktning uppdragsersättning till ideella organisationer 2024-2027 kommer det här uppdraget att bidra till?
B89: Förmåga att hantera information säkert
... B258: 5.2 Eventuell medfinansiering
B260: Härmed intygas att uppdraget inte får annan finansiering utöver sökta medel inom anslag 2:6 | H260: JA
B262: Om ni svarar "Nej", kommentera samt ange belopp. Förklara också hur ni undviker dubbelfinansiering. Exempel på annan finansiering skulle kunna vara EU-bidrag, sponsring eller annat.

Sheet Budgetsammanfattning
C2: Budgetsammanfattning
C3: Ansökan om uppdragsersättning till ideella organisationer för 2027
C4: (Diarienummer: MCF 2026-10976)
C6: Organisationens namn: | D6: =Uträkningar!C16 -> Föreningen för digitala fri- och rättigheter (DFRI)
C7: Uppdragets namn: | D7: =Uträkningar!C17 -> Digital säkerhet och självständighet
D8: Informationen ovan hämtas automatiskt.
B10: Instruktioner för Budgetsammanfattning - Fyll i en blankett för varje ansökan om uppdragsersättning. - Fyll i grå celler. Övriga celler är låsta för redigering. - I del 1 presenterar ni de uppgifter som ligger till grund för budgeten. - I del 2 sammanställs budgeten automatiskt från fliken "Uppdragsbudget". Så den fliken fylls i först. Sedan fyller ni i kommentarer i del 2 "Budgetsammanfattning" på denna flik. - Läs igenom bilagan Allmänna villkor för uppdragsersättning till ideella organisationer 2027 för mer information om vilka kostnader som kan räknas som uppdragsmedel. - Om ni skriver långa kommentarer kan texten hamna delvis utanför rutan. Det gör inget, vi ser fortfarande hela texten. Ni kan kontrollera att allt är med genom att läsa i formelfältet högst upp på sidan.
B21: 1. Basfakta till budgeten
B23: Här fyller ni i basfakta om det utbildningsuppdrag ni planerar att genomföra. Basfaktan ska ligga till grund för den budget ni presenterar i del 2 nedan. Ange det totala antalet timmar, deltagare o s v för varje utbildningstillfälle. Ange samtliga utbildningstilfällen för alla utbildningar i samma ansökan. Budgeten ni presenterar i del 2 ska bygga på den information ni presenterar här. Om det planerade antalet elever, timmar osv varierar mellan utbildningstillfällena eller utbildningarna kan ni skriva en kommentar om det i högerspalten. Det gör inget om ni skriver mer än vad som visas i rutan för kommentar, vi kommer att kunna läsa hela kommentaren ändå.
D32: År 2027 | E32: Ev. kommentar
B33: Totalt antal utbildningstillfällen | D33: 3
B34: Totalt antal ubildningstimmar per tillfälle | D34: 15
B35: Totalt antal timmar* | D35: =D33*D34 -> 45
B36: Totalt antal deltagare | D36: 45
B37: Totalt antal instruktörs/lärartimmar** | D37: 90
B38: Totalt antal instruktörer/lärare | D38: 4 | E38: Olika kursmoment kommer ha olika instruktörer
B40: * Här avses den tid som själva utbildningstillfället pågår
B41: ** Här ska ni lägga in både utbildningstiden och instruktörernas/lärarnas eget för- och efterarbete.
B44: 2. Budgetsammanfattning
B46: - Fyll i fliken "Uppdragsbudget". Tabellen nedan hämtar automatiskt upp beloppen från den fliken. - Lägg sedan in en sammanfattande kommentar för varje budgetpost. - Det gör inget om ni skriver mer än vad som visas i rutan för kommentar, vi kommer att kunna läsa hela kommentaren ändå. - Tänk på att ni ska kunna verifiera era kostnader, och visa hur ni kommit fram till beloppen för exempelvis arvoden, resor, materiel osv. - Myndigheten för civilt försvar gör en rimlighetsbedömning av era angivna kostnader under beredningen av ansökningarna. Då kontrolleras att budgeten är rimlig sett till behoven som uppdraget ska bidra till att fylla, och nyttan som utfört uppdrag bidrar till. Läs mer om förutsättningarna för finansering i bilagan Allmänna villkor för uppdragsersättning till ideella organisationer 2027.
B58: 2.1 Budget för år 2027
D60: Total kostnad 2027 | E60: Sammanfattande kommentar (texten kan hamna utanför rutan):
B61: Instruktörsarvoden | D61: =Uppdragsbudget!H37 -> 81000
B62: Extern lokal/mat/logi | D62: =Uppdragsbudget!H47 -> 28500
B63: Materiel | D63: =Uppdragsbudget!H57 -> 19500
B64: Resekostnader | D64: =Uppdragsbudget!H67 -> 6000
B65: Marknadsföring | D65: =Uppdragsbudget!H77 -> 6000
B66: Övriga kostnader (ex. kostnad för revisor) | D66: =Uppdragsbudget!H87 -> 56000
B67: Uppdragsknuten ledning, utveckling och administration | D67: =Uppdragsbudget!H97 -> 13500
B68: OH-kostnad (max. upp till 20%) | D68: =Uppdragsbudget!H107 -> 15000
B69: Summa kostnader | D69: =SUM(D61:D68) -> 225500
D70: =IF(OR(D63>25000,D66>10000,D68>25000),1,0) -> 1 | E70: =SUM(D70) -> 1
B71: =IFERROR(IF(Uträkningar!C13>0.1,"OBS! Ni har angett höga marknadsföringskostnader. Motivera särskilt varför ni ser att dessa är befogade.",""),"") | E71: =IFERROR(IF(Uträkningar!C6>0.2,"OBS! Era OH-kostnader överstiger tillåten andel av totalt ansökt belopp. Korrigera detta innan ni skickar in ansökan.",""),"")
B73: 2.2 Belopp per deltagare
B74: Här visas ett genomsnittligt belopp per deltagare för 2027. Beräkningen är gjord utifrån de uppgifter ni lämnat i basfaktan och budgetmallen.
B79: ÅR | D79: 2027
B80: Kostnad per deltagare | D80: =IFERROR(D69/D36,0) -> 5011.1111
B82: Kommentera om belopp per deltagare överstiger 500 kr.
B83: Kostnaden per deltagare beräknas till cirka 5 000 kronor under pilotprojektets första år. Den högre kostnaden beror bland annat på att utbildningsmaterial, praktiska övningar och utbildningsformer utvecklas och anpassas för de olika målgrupperna under pilotåret. När material och utbildningsupplägg är etablerade beräknas kostnaden sjunka till cirka 1 500 kronor per deltagare. Verksamheten är lärarledd och innehåller omfattande praktiska moment, där deltagarna själva får prova och arbeta med digital säkerhet och olika tekniska lösningar. Kostnaden per deltagare behöver därför ses i relation till verksamhetens praktiska och handledda innehåll.
B88: 2.3 Intyga att regler följs
B89: Här intygar ni att uppdraget är förenligt med Allmänna villkor för uppdragsersättning till ideella organisationer 2027.
B91: JA, vi intygar detta
B97: 3. Lägsta beviljade belopp för uppdragets genomförande
B98: Vid fördelning av anslag 2:6 är det vanligt att det sökta totalbeloppet för alla uppdrag som Myndigheten för civilt försvar avser bevilja överstiger tillgängliga medel. Detta får till följd att uppdraget kan komma att beviljas mindre medel än budgeterat i ansökan. Skriv här det lägsta belopp som krävs för att uppdraget kan genomföras samt en motivering. Om det lägsta beloppet för uppdragets genomförande inte kan beviljas kommer ansökan istället att avslås.
B103: DFRI bedömer att det lägsta belopp som krävs för att genomföra uppdraget i den planerade omfattningen är 209 000 kronor. Beloppet behövs för att utveckla och målgruppsanpassa utbildningsmaterial, planera och genomföra pilotutbildningar för ungdomar, seniorer och digitalt sårbara grupper samt genomföra lärarledd undervisning med omfattande praktiska moment. I pilotprojektet ingår även utvärdering och vidareutveckling av material och metoder. Ett lägre stöd skulle innebära att omfattningen av pilotverksamheten behöver minskas, exempelvis genom färre utbildningstillfällen eller färre deltagare. Det skulle även minska möjligheten att bygga upp det utbildningsmaterial och de metoder som behövs för att efter pilotåret kunna genomföra verksamheten till en betydligt lägre kostnad per deltagare.

Sheet Uppdragsbudget
B2: Uppdragsbudget
B3: Ansökan uppdragsersättning
B4: till Ideella organisationer för 2027
D6: Organisationens namn: | F6: =Uträkningar!C16 -> Föreningen för digitala fri- och rättigheter (DFRI)
D7: Uppdragets namn: | F7: =Uträkningar!C17 -> Digital säkerhet och självständighet
F8: Informationen ovan hämtas automatiskt.
B10: Instruktioner för Uppdragsbudget - Fyll i grå celler. Övriga celler är låsta för redigering. - I den första kolumnen anger ni vilka kostnader som ingår i varje budgetpost. Skriv en kostnadspost per rad. Om ni vill skriva något mer om kostnadsposten kan ni göra det i kolumnen "Kommentar". Fyll sedan i uppgifterna i tabellen för varje kostnad ni angett. - Inkludera enbart kostnader som är direkt kopplade till det specifika uppdraget. - Höga marknadsföringskostnader ((över 10% av totalt ansökt belopp) ska särskilt motiveras i ansökan. - Ni kan ansöka om OH-kostnader på upp till 20 % av totalt ansökt belopp. OH-kostnaderna ska vara specificerade. Läs mer om vilka kostnader som kan täckas av OH i bilagan Allmänna villkor för uppdragsersättning till ideella organisationer 2027. - Tänk på att ni ska kunna verifiera era kostnader, och visa hur ni kommit fram till beloppen för exempelvis arvoden, resor, materiel osv. - Om ni vill ha fler rader kan ni mejla uppdragsersattning-ideella@mcf.se och tala om i vilken/vilka tabeller ni vill ha fler rader så hjälper vi er. Läs mer om förutsättningarna för finansering i bilagan Allmänna villkor för uppdragsersättning till ideella organisationer 2027.
B22: I rutorna nedan visas meddelanden om ni behöver se över någon del av budgeten innan ni skickar in ansökan.
B24: =Budgetsammanfattning!$B$71
B26: =Budgetsammanfattning!$E$71
B28: År 2027
B29: Instruktörsarvoden | E29: Kostnadsenhet | F29: Kostnad per enhet | G29: Antal enheter inom uppdraget | H29: Total kostnad för uppdragsår | I29: Kommentar - Hur knyter kostnaden an till uppdraget? | J29: Myndighetens kommentarer
B30: Huvud instruktör | E30: Timlön | F30: 1200 | G30: 45 | H30: =G30*F30 -> 54000
E31: Timlön | H31: =G31*F31 -> 0
B32: Med instruktör | E32: Timlön | F32: 600 | G32: 45 | H32: =G32*F32 -> 27000
E33: Timlön | H33: =G33*F33 -> 0
E34: Timlön | H34: =G34*F34 -> 0
E35: Timlön | H35: =G35*F35 -> 0
E36: Timlön | H36: =G36*F36 -> 0
B37: Summa instruktörsarvoden | H37: =SUM(H30:H36) -> 81000
B39: Extern lokal/mat/logi | E39: Kostnadsenhet | F39: Kostnad per enhet | G39: Antal enheter inom uppdraget | H39: Total kostnad för uppdragsår | I39: Kommentar - Hur knyter kostnaden an till uppdraget? | J39: Myndighetens kommentarer
B40: Lokaler | E40: timme | F40: 500 | G40: 45 | H40: =G40*F40 -> 22500
B41: Fika | E41: kurs | F41: 2000 | G41: 3 | H41: =G41*F41 -> 6000
H42: =G42*F42 -> 0
H43: =G43*F43 -> 0
H44: =G44*F44 -> 0
H45: =G45*F45 -> 0
H46: =G46*F46 -> 0
B47: Summa extern lokal/mat/logi | H47: =SUM(H40:H46) -> 28500
B49: Materiel | E49: Kostnadsenhet | F49: Kostnad per enhet | G49: Antal enheter inom uppdraget | H49: Total kostnad för uppdragsår | I49: Kommentar - Hur knyter kostnaden an till uppdraget? | J49: Myndighetens kommentarer
B50: Datorer och mobiltelefoner för praktiska övningar | E50: styck | F50: 3000 | G50: 4 | H50: =G50*F50 -> 12000
B51: Övrig teknisk utrustning (USB minnen, extra hårddisk) | E51: total | F51: 7500 | G51: 1 | H51: =G51*F51 -> 7500
H52: =G52*F52 -> 0
H53: =G53*F53 -> 0
H54: =G54*F54 -> 0
H55: =G55*F55 -> 0
H56: =G56*F56 -> 0
B57: Summa materiel | H57: =SUM(H50:H56) -> 19500
B59: Resekostnader | E59: Kostnadsenhet | F59: Kostnad per enhet | G59: Antal enheter inom uppdraget | H59: Total kostnad för uppdragsår | I59: Kommentar - Hur knyter kostnaden an till uppdraget? | J59: Myndighetens kommentarer
B60: Reseersättning | E60: kurs | F60: 2000 | G60: 3 | H60: =G60*F60 -> 6000
H61: =G61*F61 -> 0
H62: =G62*F62 -> 0
H63: =G63*F63 -> 0
H64: =G64*F64 -> 0
H65: =G65*F65 -> 0
H66: =G66*F66 -> 0
B67: Summa resekostnader | H67: =SUM(H60:H66) -> 6000
B69: Marknadsföring | E69: Kostnadsenhet | F69: Kostnad per enhet | G69: Antal enheter inom uppdraget | H69: Total kostnad för uppdragsår | I69: Kommentar - Hur knyter kostnaden an till uppdraget? | J69: Myndighetens kommentarer
E70: styck | F70: 2000 | G70: 3 | H70: =G70*F70 -> 6000
H71: =G71*F71 -> 0
H72: =G72*F72 -> 0
H73: =G73*F73 -> 0
H74: =G74*F74 -> 0
H75: =G75*F75 -> 0
H76: =G76*F76 -> 0
B77: Summa marknadsföring | H77: =SUM(H70:H76) -> 6000
B79: Övriga kostnader | E79: Kostnadsenhet | F79: Kostnad per enhet | G79: Antal enheter inom uppdraget | H79: Total kostnad för uppdragsår | I79: Kommentar - Hur knyter kostnaden an till uppdraget? | J79: Myndighetens kommentarer
B80: Kursutveckling | E80: styck | F80: 50000 | G80: 1 | H80: =G80*F80 -> 50000
B81: Kursmaterial | E81: Styck | F81: 2000 | G81: 3 | H81: =G81*F81 -> 6000
H82: =G82*F82 -> 0
H83: =G83*F83 -> 0
H84: =G84*F84 -> 0
H85: =G85*F85 -> 0
H86: =G86*F86 -> 0
B87: Summa övriga kostnader | H87: =SUM(H80:H86) -> 56000
B89: Uppdragsknuten ledning, utveckling och administration | E89: Kostnadsenhet | F89: Kostnad per enhet | G89: Antal enheter inom uppdraget | H89: Total kostnad för uppdragsår | I89: Kommentar - Hur knyter kostnaden an till uppdraget? | J89: Myndighetens kommentarer
B90: Förberedelse och efterbearbetning | E90: styck | F90: 2000 | G90: 3 | H90: =G90*F90 -> 6000
B91: Administration | E91: Styck | F91: 2500 | G91: 3 | H91: =G91*F91 -> 7500
H92: =G92*F92 -> 0
H93: =G93*F93 -> 0
H94: =G94*F94 -> 0
H95: =G95*F95 -> 0
H96: =G96*F96 -> 0
B97: Uppdragsknuten ledning, utveckling och administration | H97: =SUM(H90:H96) -> 13500
B99: OH-kostnad (max upp till 20 % av totalt ansökt belopp) | E99: Kostnadsenhet | F99: Kostnad per enhet | G99: Antal enheter inom uppdraget | H99: Total kostnad för uppdragsår | I99: Kommentar - Hur knyter kostnaden an till uppdraget? | J99: Myndighetens kommentarer
B100: Oförutsedda kostnader är lokalhyra och reseersättning | E100: 1 | F100: 15000 | G100: 1 | H100: =G100*F100 -> 15000
H101: =G101*F101 -> 0
H102: =G102*F102 -> 0
H103: =G103*F103 -> 0
H104: =G104*F104 -> 0
H105: =G105*F105 -> 0
H106: =G106*F106 -> 0
B107: Summa OH-kostnad | H107: =SUM(H100:H106) -> 15000
B109: TOTAL | H109: =H37+H47+H57+H67+H77+H87+H97+H107 -> 225500

Sheet Fördjupad verksamhetsmall
E2: Fördjupad verksamhetsmall
E3: Ansökan om uppdragsersättning till ideella organisationer för 2027
B5: Organisationens namn: | D5: =Uträkningar!C16 -> Föreningen för digitala fri- och rättigheter (DFRI)
B6: Uppdragets namn: | D6: =Uträkningar!C17 -> Digital säkerhet och självständighet
D7: Informationen ovan hämtas automatiskt.
A9: Instruktioner Fördjupad verksamhetsmall - Fyll i grå celler. Övriga delar är låsta för redigering. - Det går bra att skriva direkt i textfälten. Det går också bra att skriva i word och klistra in texten. Tänk på att antalet tecken inte får överskrida begränsningen (se respektive fråga).
A15: 1 Källa till kunskap
A16: Vad har organisationen för källor till kunskap? Är det informationsmaterial från Myndigheten för civilt försvars hemsida? Samarbete med andra aktörer? Kravställning på instruktörers tidigare kompetens? Vilken kompetens har organisationen på egen hand?
A20: Högst 1 000 tecken.
A21: Kunskapen bygger på erfarenheter och kompetenser hos föreningens medlemmar från yrkesliv och forskning samt på DFRI egna aktiviteter och erfarenheter under mer än 15 år. Detta omfattar bland annat digital säkerhet, integritet, fri programvara, digital självständighet och digitala rättigheter.
A33: 2 Kompetens hos utbildare / instruktörer
A34: Vad har instruktörerna för utbildning? Vilka krav ställs på den som vill bli instruktör? Hur tillses att instruktörernas kompetens vidarutvecklas? Hur sker uppföljning av instruktörer?
A38: Högst 1 000 tecken.
A39: Utbildarnas utbildningsbakgrund varierar från gymnasie- till universitetsutbildning. Avgörande är dokumenterad kompetens och praktisk erfarenhet inom det område de ska undervisa i. Många är yrkesverksamma inom relevanta områden eller aktiva i DFRI projekt och andra publika projekt med koppling till uppdraget. Utbildare väljs utifrån dokumenterad kompetens och uppvisad pedagogisk och praktisk förmåga, exempelvis genom tidigare yrkesverksamhet som lärare eller lektor, seminarier, konferenser och andra utbildningsinsatser. Kompetensutveckling sker genom erfarenhetsutbyte, gemensam utveckling av utbildningsmaterial och uppdatering av innehåll utifrån utvecklingen inom digital säkerhet och teknik. Utbildarna följs upp genom deltagarnas kursutvärderingar och återkoppling, som används för att utveckla utbildningarna. För utbildare som arbetar med ungdomsgrupper krävs utdrag ur belastningsregistret.
A51: 3 Kursupplägg
A52: Hur är kursen upplagd? Skriv här en kursplan med detaljerade kunskapsmål, tidsåtgång, moment och genomförande, material som används samt övrigt för att konkretisera utbildningens genomförande. Alternativt bifoga en fil till ansökan.
A56: Högst 1 000 tecken eller bifoga fil.
... A120: Lär dig skydda dig mot bedrägerier, stärka din digitala säkerhet och använda digital teknik mer självständigt. Kostnadsfria, praktiska utbildningar för ungdomar, seniorer och andra digitalt sårbara grupper. Du får prova verktyg och lösningar under handledning.

Sheet MCFs sammanfattning
A1: ORGANISATION - SAMMANFATTNING | E1: KONTAKTPERSON | H1: FIRMATECKNARE | K1: ORGANISATION - YTTERLIGARE INFORMATION | Q1: PLANERAD VERKSAMHET | S1: INRIKTNINGSOMRÅDEN | U1: MÅL FÖR VERKSAMHETEN | Y1: GENOMFÖRANDE | AC1: MOTIVERING, UPPFÖLJNING, UTVÄRDERING, ÖVRIGT | AF1: SAMVERKAN OCH MEDFINANSIERING | AJ1: BUDGETSAMMANFATTNING
A2: Orgnr | B2: Organisation | C2: Postadress | D2: Demokratiskt uppbyggd? | E2: Namn | F2: Telefon | G2: E-post | H2: Namn | I2: Telefon | J2: E-post | K2: Kort beskrivning av org vht | L2: Antal medlemmar i organisationen | M2: Länk till hemsida eller plattform | N2: Verksamhet tillgänglig i alla landets län? | O2: Orter/kommuner där organisationen är verksam | P2: Övriga kontaktuppgifter | Q2: Uppdragets namn | R2: Syfte, mål och verksamhet | S2: Inriktningsområde | T2: Kommentar om inriktningar | U2: Nuläge | V2: Målbild | W2: Målgrupper | X2: Hur motivera målgruppen, marknadsföring | Y2: Utbildningsformer som ska användas | Z2: Material som ska användas | AA2: På vilka orter genomförs utbildningen? | AB2: Aktivitetsplan | AC2: Hur förhåller sig uppdraget till inriktningen? | AD2: Uppföljning och utvärdering | AE2: Övrig information | AF2: Samverkan | AG2: Medifinansiering intygan | AH2: Medifinansiering intygan | AI2: Medfinansiering - beskrivning | AJ2: Instruktörsarvoden | AK2: Extern lokal/mat/logi | AL2: Materiel | AM2: Resekostnader | AN2: Marknadsföring | AO2: Övriga kostnader (ex. kostnad för revisor) | AP2: Uppdragsknuten ledning, utveckling och administration | AQ2: OH-kostnad (max. upp till 20%) | AR2: Kostnad/deltagare | AS2: Intygan om regler | AT2: Lägsta belopp för genomförande
A3: =' Ansökningsblankett Ideella '!D22 -> 802461-0852 | B3: =' Ansökningsblankett Ideella '!D23 -> Föreningen för digitala fri- och rättigheter (DFRI) | C3: =' Ansökningsblankett Ideella '!D24 -> Box 3644, SE-103 59 STOCKHOLM | D3: =' Ansökningsblankett Ideella '!H26 -> JA | E3: =' Ansökningsblankett Ideella '!D30 -> Mats Karlsson | F3: =' Ansökningsblankett Ideella '!D31 -> 076-341 81 83 | G3: =' Ansökningsblankett Ideella '!D32 -> mats.o.karlsson@gmail.com | H3: =' Ansökningsblankett Ideella '!D34 -> Börje Ohlman | I3: =' Ansökningsblankett Ideella '!D35 -> 070-519 3187 | J3: =' Ansökningsblankett Ideella '!D36 -> Borje@dfri.se | K3: =' Ansökningsblankett Ideella '!B44 -> DFRI är en ideell och partipolitiskt obunden förening som verkar för främjandet av digitala fri- och rättigheter. Vi vill ha ett samhälle där människor kan leva utan att bli övervakade, spårade eller avlyssnade. Ett samhälle där yttrandefrihet, transparens och informationsfrihet alltid sätts i första rummet, och där människor äger rätten att själva bestämma över sin personliga information och sina digitala fotspår. | L3: =' Ansökningsblankett Ideella '!H47 -> 150 | M3: =' Ansökningsblankett Ideella '!F49 -> https://www.dfri.se/ | N3: =' Ansökningsblankett Ideella '!H51 -> NEJ | O3: =' Ansökningsblankett Ideella '!B54 -> Stockholm | P3: =' Ansökningsblankett Ideella '!B39 -> styrelse@dfri.se | Q3: =' Ansökningsblankett Ideella '!B59 -> Digital säkerhet och självständighet | R3: =' Ansökningsblankett Ideella '!B66 -> I föreningens arbete med att svara för medborgares rättigheter och friheter inom den digitala världen så har det drivits verksamhet som ToR nätverk och utåtriktade informations arbeten riktade mot universitet och konferanser med myndigheter (tex. SamNet). Dfri har även sett en ökad efterfrågan på kunskap inom digital säkerhet och självständighet utifrån den ändrade världsbilden och vill starta några pilotprojekt där utbildning är ett av dessa. | S3: =' Ansökningsblankett Ideella '!B89 -> Förmåga att hantera information säkert | T3: =' Ansökningsblankett Ideella '!B92 -> Stärka individens kunskap om säkerhet och beredskap samt öka människors förmåga att förebygga och hantera olyckor, kriser och bidra till höjd beredskap. | U3: =' Ansökningsblankett Ideella '!B103 -> Samhället blir allt mer digitaliserat och människor är i dag beroende av digitala tjänster för bland annat myndighetskontakter, bankärenden, vård, utbildning, arbete och kommunikation. Samtidigt varierar kunskapen om digital säkerhet, integritet och självständighet kraftigt mellan olika grupper. DFRI har genom medlemsmöten och kontakter med andra föreningar, bland annat SeniorNet, samt genom kontakter i socioekonomiskt utsatta områden, sett ett tydligt behov av ökad kunskap. Särskilt personer med begränsad digital vana eller andra hinder kan ha svårt att förstå digitala risker och vilka möjligheter de har att skydda sin information och göra självständiga tekniska val. Det finns mycket information om digital säkerhet, men den är ofta tekniskt avancerad, splittrad eller inte anpassad till olika målgruppers förutsättningar. Det saknas därför lättillgänglig och praktiskt inriktad kunskap som stärker människors förmåga att använda digital teknik på ett säkert och självständigt sätt. | V3: =' Ansökningsblankett Ideella '!B117 -> DFRI vill möta behovet genom att utveckla och genomföra målgruppsanpassade utbildningar, praktiska guider och verkstäder inom digital säkerhet och självständighet. Utbildningarna ska ge deltagarna grundläggande förståelse för digitala risker, integritet och digitala rättigheter. Stor vikt läggs på praktiska workshops och handfasta moment där deltagarna själva får prova, konfigurera och använda olika verktyg och lösningar. Guiderna ska ge konkret stöd för att kunna tillämpa kunskaperna i vardagen. Målet är att stärka individers digitala trygghet, kompetens och självständighet – inte bara genom teoretisk kunskap utan genom praktisk förmåga. | W3: =' Ansökningsblankett Ideella '!B130 -> 1. ungdomar 2. seniorer 3. digitalt sårbara grupper | X3: =' Ansökningsblankett Ideella '!B135 -> De tre målgrupperna nås genom samarbeten med exempelvis skolor, SeniorNet och PRO samt bostadsföretag som driver projekt inom social hållbarhet. Deltagarna motiveras genom att verksamheten erbjuds kostnadsfritt och som en lättillgänglig kurs med prova-på-verksamhet utan krav på förkunskaper. Fokus ligger på konkret nytta i vardagen. Det kan exempelvis handla om att få hjälp att öka säkerheten, skydda sin personliga information eller ge en trött dator nytt liv utan dyra uppgraderingar. Genom workshops och handfasta moment får deltagarna själva prova olika lösningar och se vad de kan göra med den teknik de redan har. På så sätt blir det enkelt att prova verksamheten och upptäcka nyttan med ökad digital säkerhet och självständighet. | Y3: =' Ansökningsblankett Ideella '!B144 -> Utbildningen genomförs som fysisk, lärarledd utbildning med stort inslag av praktiska moment och workshops. Deltagarna ges möjlighet att ta med egen laptop, mobiltelefon eller annan digital utrustning och får vägledning utifrån sina egna förutsättningar och behov. Genom att prova olika alternativ och lösningar praktiskt kan deltagarna direkt se hur de fungerar och vilka möjligheter de ger. Utbildningen kombinerar därför teoretiska genomgångar med praktiskt handhavande, vägledning och prova-på-moment. | Z3: =' Ansökningsblankett Ideella '!B150 -> 0 | AA3: =' Ansökningsblankett Ideella '!B156 -> Stor Stockholm I pilotfasen 2027 | AB3: =' Ansökningsblankett Ideella '!B164 -> Ta fram och anpassa utbildningsmaterial, guider och praktiska övningar för de tre målgrupperna. Utveckla samarbeten med skolor, SeniorNet/PRO och bostadsföretag för att nå deltagare. Genomföra kostnadsfria pilotutbildningar och prova-på-workshops för ungdomar, seniorer och digitalt sårbara grupper. Lägga stor vikt vid praktiska moment där deltagarna får prova digital säkerhet, fri programvara, Linux och andra alternativ med egen eller tillhandahållen utrustning. Samla in deltagarnas återkoppling och utvärdera samt vidareutveckla utbildningsmaterial och upplägg. | AC3: =' Ansökningsblankett Ideella '!B193 -> Uppdraget ligger direkt i linje med inriktningen 3.4 Förmåga att hantera information säkert. DFRI utbildningar stärker individers förmåga att skydda personuppgifter och viktig information, förebygga bedrägerier och andra cybersäkerhetsrisker samt kritiskt granska information och informationskällor. Målgrupperna överensstämmer också väl med de prioriterade målgrupperna: ungdomar, seniorer samt personer i riskutsatta områden och personer som inte har svenska som modersmål. Verksamheten bidrar även till 3.5 Förmåga att hantera allvarliga händelser och kriser, genom att öka kunskapen om digitala beroenden, störningar, cyberattacker och möjligheten att använda alternativa tekniska lösningar. Genom kostnadsfria, praktiska och målgruppsanpassade utbildningar stärks den enskildes digitala motståndskraft och förmåga att agera självständigt vid såväl vardagliga digitala hot som störningar och kriser. | AD3: =' Ansökningsblankett Ideella '!B215 -> Verksamheten följs upp genom både aktivitets- och resultatmått. Vi kommer bland annat att mäta: - antal genomförda utbildningstillfällen och workshops - antal deltagare, fördelat på de tre målgrupperna - antal samarbetspartners och aktiviteter genomförda tillsammans med dessa - deltagarnas närvaro och genomförandegrad - förändring i deltagarnas kunskap genom enkla frågor före och efter utbildningen - deltagarnas upplevda trygghet och förmåga att själva hantera digitala säkerhetsfrågor före och efter utbildningen - antal deltagare som efter utbildningen genomför praktiska moment, exempelvis aktiverar 2FA, gör säkerhetsinställningar eller provar fri programvara/Linux - deltagarnas bedömning av utbildningens nytta och relevans. Resultaten sammanställs efter genomförda utbildningar och används för att utveckla kursmaterial, pedagogik och praktiska moment. Målet är att kunna visa både hur många som nåtts och vilken faktisk kunskaps- och förmågeökning verksamheten har lett till. | AE3: =' Ansökningsblankett Ideella '!B234 -> DFRI har sedan tidigare erfarenhet av att sprida kunskap om digital säkerhet, integritet och digital självständighet genom bland annat medlemsmöten, informationsinsatser och kontakter med universitet, myndigheter och andra organisationer. De medlemmar som deltar i att utforma och genomföra satsningen har lång erfarenhet inom utbildning, digital säkerhet och digital suveränitet. De har ett starkt engagemang för att göra kunskap inom området tillgänglig och praktiskt användbar för fler. Satsningen bygger vidare på denna erfarenhet men utvecklar den till en mer strukturerad och praktiskt inriktad utbildningsverksamhet. En viktig utgångspunkt är att deltagarna själva ska få prova och använda olika lösningar, inte enbart ta del av teoretisk information. Pilotverksamheten under 2027 ska ge DFRI möjlighet att utvärdera vilka metoder och utbildningsformer som fungerar bäst för olika målgrupper och därefter vidareutveckla verksamheten. | AF3: =' Ansökningsblankett Ideella '!B254 -> DFRI planerar att använda de kontaktnät som föreningens medlemmar redan har i andra föreningar och organisationer. Där det finns efterfrågan och etablerade kontakter kan samverkan ske med exempelvis SeniorNet, PRO, KTH och Järfällahus. Kontaktnäten ger möjlighet att nå prioriterade målgrupper, identifiera lokala behov och skapa förutsättningar för utbildningstillfällen och workshops. Samverkan kan även bidra med kunskap, erfarenhetsutbyte och återkoppling på utbildningarnas innehåll och genomförande. | AG3: =' Ansökningsblankett Ideella '!F260 -> 0 | AH3: =' Ansökningsblankett Ideella '!H260 -> JA | AI3: =' Ansökningsblankett Ideella '!B263 -> 0 | AJ3: =Budgetsammanfattning!D61 -> 81000 | AK3: =Budgetsammanfattning!D62 -> 28500 | AL3: =Budgetsammanfattning!D63 -> 19500 | AM3: =Budgetsammanfattning!D64 -> 6000 | AN3: =Budgetsammanfattning!D65 -> 6000 | AO3: =Budgetsammanfattning!D66 -> 56000 | AP3: =Budgetsammanfattning!D67 -> 13500 | AQ3: =Budgetsammanfattning!D68 -> 15000 | AR3: =Budgetsammanfattning!D80 -> 5011.1111 | AS3: =Budgetsammanfattning!B91 -> JA, vi intygar detta | AT3: =Budgetsammanfattning!B103 -> DFRI bedömer att det lägsta belopp som krävs för att genomföra uppdraget i den planerade omfattningen är 209 000 kronor. Beloppet behövs för att utveckla och målgruppsanpassa utbildningsmaterial, planera och genomföra pilotutbildningar för ungdomar, seniorer och digitalt sårbara grupper samt genomföra lärarledd undervisning med omfattande praktiska moment. I pilotprojektet ingår även utvärdering och vidareutveckling av material och metoder. Ett lägre stöd skulle innebära att omfattningen av pilotverksamheten behöver minskas, exempelvis genom färre utbildningstillfällen eller färre deltagare. Det skulle även minska möjligheten att bygga upp det utbildningsmaterial och de metoder som behövs för att efter pilotåret kunna genomföra verksamheten till en betydligt lägre kostnad per deltagare.

Sheet Uträkningar
B2: OH-max
B3: Totalt ansökt belopp | C3: =Budgetsammanfattning!$D$69 -> 225500
B4: Angiven OH | C4: =Budgetsammanfattning!D68 -> 15000
B6: OH % av totalt ansökt belopp | C6: =C4/C3 -> 0.066518847
B9: Marknadsföring
B10: Totalt ansökt belopp | C10: =Budgetsammanfattning!$D$69 -> 225500
B11: Angiven marknadsf. | C11: =Budgetsammanfattning!D65 -> 6000
B13: OH % av totalt ansökt belopp | C13: =C11/C10 -> 0.026607539
B16: Orgnamn | C16: {=' Ansökningsblankett Ideella '!D23:I23} -> Föreningen för digitala fri- och rättigheter (DFRI) | D16: 0 | E16: 0 | F16: 0 | G16: 0 | H16: 0
B17: Uppdragsnamn | C17: {=' Ansökningsblankett Ideella '!B59:I59} -> Digital säkerhet och självständighet | D17: 0 | E17: 0 | F17: 0 | G17: 0 | H17: 0 | I17: 0 | J17: 0
B20: Förmåga att förebygga och agera vid bostadsbränder
B21: Vattensäkerhet och drunkningsförebyggande
B22: Första hjälpen, hjärt- och lungräddning samt stoppa livshotande blödning
B23: Förmåga att hantera information säkert
B24: Förmåga att hantera allvarliga händelser och kriser, samt hantera konsekvenser av höjd beredskap och ytterst krig
